BEGIN:VCALENDAR
VERSION:2.0
PRODID:-//Library Market//iCal Export//EN
BEGIN:VEVENT
SUMMARY:Story Time
UID:61381
DTSTAMP:20260425T203700Z
DTSTART:20260611T143000Z
DTEND:20260611T153000Z
LOCATION:115 Catawba Ave, Newfield, NJ 08344, United States
ROOM: Meeting Room
DESCRIPTION:Children ages 2 to 5 can join us for songs, stories, and an ea
 sy craft.  Making friends, learning to love reading, and being creative a
 re a bonus!
URL:https://gcls.librarycalendar.com/event/story-time-61381
END:VEVENT
END:VCALENDAR
