BEGIN:VCALENDAR
VERSION:2.0
PRODID:-//Library Market//iCal Export//EN
BEGIN:VEVENT
SUMMARY:GCLS
UID:61341
DTSTAMP:20260425T212900Z
DTSTART:20260429T130000Z
DTEND:20260429T160000Z
LOCATION:389 Wolfert Station Rd, Mullica Hill, NJ 08062, United States
ROOM: Meeting Room C
DESCRIPTION:Staff meeting
URL:https://gcls.librarycalendar.com/event/gcls-61341
END:VEVENT
END:VCALENDAR
