BEGIN:VCALENDAR
VERSION:2.0
PRODID:-//Library Market//iCal Export//EN
BEGIN:VEVENT
SUMMARY:3D Printer Certification
UID:61290
DTSTAMP:20260422T130500Z
DTSTART:20260421T203000Z
DTEND:20260421T213000Z
LOCATION:389 Wolfert Station Rd, Mullica Hill, NJ 08062, United States
ROOM: MakerStudio
DESCRIPTION:Get certified to use our Bambu Labs A1 Mini 3D printer, and st
 art your own Maker Movement today. For more information, or to schedule a 
 personalized 3d certification time, please contact Make@GCLS.org.Note: thi
 s appointment is currently full, please email the makerstudio for schedule
  an appointment.
URL:https://gcls.librarycalendar.com/event/3d-printer-certification-61290
END:VEVENT
END:VCALENDAR
