BEGIN:VCALENDAR
VERSION:2.0
PRODID:-//Library Market//iCal Export//EN
BEGIN:VEVENT
SUMMARY:Country Line Dancing at the Library!
UID:61244
DTSTAMP:20260423T110700Z
DTSTART:20260716T223000Z
DTEND:20260717T000000Z
LOCATION:498 Beckett Rd., Logan Twp., NJ 08085, United States
ROOM: Meeting Room A
DESCRIPTION:You&#039;re invited to Line Dancing at the Library!  Learn th
 e basics from Jenn Gordon with Appel Farm.  Please register as space is l
 imited.
URL:https://gcls.librarycalendar.com/event/country-line-dancing-library-61
 244
END:VEVENT
END:VCALENDAR
