BEGIN:VCALENDAR
VERSION:2.0
PRODID:-//Library Market//iCal Export//EN
BEGIN:VEVENT
SUMMARY:Adapted Art
UID:60928
DTSTAMP:20260420T090300Z
DTSTART:20260520T203000Z
DTEND:20260520T213000Z
LOCATION:1442 Kings Highway, Swedesboro, NJ 08085, United States
ROOM: Meeting Room
DESCRIPTION:Join us for an adapted art activity for children with differen
 t abilities.  Space is limited so please be sure to register.  Best suit
 ed for ages 2-6.
URL:https://gcls.librarycalendar.com/event/adapted-art-60928
END:VEVENT
END:VCALENDAR
